BEGIN:VCALENDAR
VERSION:2.0
PRODID:-//wp-events-plugin.com//7.2.3.1//EN
BEGIN:VEVENT
UID:474@casadedios.org
DTSTART;VALUE=DATE:20260711
DTEND;VALUE=DATE:20260713
DTSTAMP:20260320T193412Z
URL:https://casadedios.org/eventos/live-and-love-julio-2026/
SUMMARY:Live and Love - Julio 2026
DESCRIPTION:Retiro de matrimonios Live and Love 
ATTACH;FMTTYPE=image/jpeg:https://casadedios.org/wp-content/uploads/2026/0
 3/julio-live-and-love-agenda.jpg
CATEGORIES:Live &amp; Love
LOCATION:Hotel Soleil\, 9a. Calle poniente Final Salida a Cudad Vieja\, \, 
 La Antigua\, Guatemala\, 03001\, Guatemala
GEO:14.5585707;-90.72952299999997
X-APPLE-STRUCTURED-LOCATION;VALUE=URI;X-ADDRESS=9a. Calle poniente Final Sa
 lida a Cudad Vieja\, \, La Antigua\, Guatemala\, 03001\, Guatemala;X-APPLE
 -RADIUS=100;X-TITLE=Hotel Soleil:geo:14.5585707,-90.72952299999997
END:VEVENT
END:VCALENDAR